BEGIN:VCALENDAR
VERSION:2.0
PRODID:-//Janusz-Korczak-Realschule Schwalmtal - ECPv6.15.20//NONSGML v1.0//EN
CALSCALE:GREGORIAN
METHOD:PUBLISH
X-ORIGINAL-URL:https://www.janusz-korczak-realschule.de
X-WR-CALDESC:Veranstaltungen für Janusz-Korczak-Realschule Schwalmtal
REFRESH-INTERVAL;VALUE=DURATION:PT1H
X-Robots-Tag:noindex
X-PUBLISHED-TTL:PT1H
BEGIN:VTIMEZONE
TZID:Europe/Berlin
BEGIN:DAYLIGHT
TZOFFSETFROM:+0100
TZOFFSETTO:+0200
TZNAME:CEST
DTSTART:20240331T010000
END:DAYLIGHT
BEGIN:STANDARD
TZOFFSETFROM:+0200
TZOFFSETTO:+0100
TZNAME:CET
DTSTART:20241027T010000
END:STANDARD
BEGIN:DAYLIGHT
TZOFFSETFROM:+0100
TZOFFSETTO:+0200
TZNAME:CEST
DTSTART:20250330T010000
END:DAYLIGHT
BEGIN:STANDARD
TZOFFSETFROM:+0200
TZOFFSETTO:+0100
TZNAME:CET
DTSTART:20251026T010000
END:STANDARD
BEGIN:DAYLIGHT
TZOFFSETFROM:+0100
TZOFFSETTO:+0200
TZNAME:CEST
DTSTART:20260329T010000
END:DAYLIGHT
BEGIN:STANDARD
TZOFFSETFROM:+0200
TZOFFSETTO:+0100
TZNAME:CET
DTSTART:20261025T010000
END:STANDARD
END:VTIMEZONE
BEGIN:VEVENT
DTSTART;TZID=Europe/Berlin:20250305T080000
DTEND;TZID=Europe/Berlin:20250308T170000
DTSTAMP:20260426T043915
CREATED:20250115T132437Z
LAST-MODIFIED:20250220T084051Z
UID:5374-1741161600-1741453200@www.janusz-korczak-realschule.de
SUMMARY:Anmeldetermine neue Stufe 5
DESCRIPTION:Bitte vorab die Daten zur Anmeldung online eintragen\, dann mit den gewünschten Unterlagen zu Ihrem Termin in die Schule kommen \n\nJanusz-Korczak-Realschule\, Standort Waldniel\, Turmstr. 6\, 41366 Schwalmtal\, Telefon: +49 2163 31941\, Mail: sekretariat@jkrs.eu\n\nhttps://pedav-online.de/osa/app.php?schulid=rs_janusz_korczak_realschule \n 
URL:https://www.janusz-korczak-realschule.de/termin/anmeldetermine-neue-stufe-5/
END:VEVENT
END:VCALENDAR