BEGIN:VCALENDAR
VERSION:2.0
PRODID:-//Janusz-Korczak-Realschule Schwalmtal - ECPv6.15.20//NONSGML v1.0//EN
CALSCALE:GREGORIAN
METHOD:PUBLISH
X-ORIGINAL-URL:https://www.janusz-korczak-realschule.de
X-WR-CALDESC:Veranstaltungen für Janusz-Korczak-Realschule Schwalmtal
REFRESH-INTERVAL;VALUE=DURATION:PT1H
X-Robots-Tag:noindex
X-PUBLISHED-TTL:PT1H
BEGIN:VTIMEZONE
TZID:Europe/Berlin
BEGIN:DAYLIGHT
TZOFFSETFROM:+0100
TZOFFSETTO:+0200
TZNAME:CEST
DTSTART:20230326T010000
END:DAYLIGHT
BEGIN:STANDARD
TZOFFSETFROM:+0200
TZOFFSETTO:+0100
TZNAME:CET
DTSTART:20231029T010000
END:STANDARD
BEGIN:DAYLIGHT
TZOFFSETFROM:+0100
TZOFFSETTO:+0200
TZNAME:CEST
DTSTART:20240331T010000
END:DAYLIGHT
BEGIN:STANDARD
TZOFFSETFROM:+0200
TZOFFSETTO:+0100
TZNAME:CET
DTSTART:20241027T010000
END:STANDARD
BEGIN:DAYLIGHT
TZOFFSETFROM:+0100
TZOFFSETTO:+0200
TZNAME:CEST
DTSTART:20250330T010000
END:DAYLIGHT
BEGIN:STANDARD
TZOFFSETFROM:+0200
TZOFFSETTO:+0100
TZNAME:CET
DTSTART:20251026T010000
END:STANDARD
END:VTIMEZONE
BEGIN:VEVENT
DTSTART;TZID=Europe/Berlin:20240927T080000
DTEND;TZID=Europe/Berlin:20240927T170000
DTSTAMP:20260421T095701
CREATED:20240814T065401Z
LAST-MODIFIED:20240903T074039Z
UID:5034-1727424000-1727456400@www.janusz-korczak-realschule.de
SUMMARY:13. Schullauf
DESCRIPTION:Unser 13. Schullauf steht an am Freitag\, 27.09.24 ab 12:15 Uhr am Standort Niederkrüchten \nDer Unterricht endet an diesem Tag um 10:15 Uhr (4 Kurzstd.) für alle. Auch dieses Mal nutzen wir unseren Schullauf\, um Gelder für die Belange unserer Schule und für soziale Zwecke zu sammeln. Die Schülerinnen und Schüler\, -gerne auch Eltern\, Lehrer und Freunde-\, sollen bei diesem Schullauf einen Rundkurs (etwa 1400m pro Runde) wandernd oder laufend zurücklegen. Bis zum 23.09.24 bemühen sich die Schülerinnen und Schüler Sponsoren zu finden\, die für jeden geschafften Kilometer ein „Sponsorengeld“ zahlen. Über einen Kilometerpreis von 0\,50 Euro würden wir uns freuen. Aber auch jeder andere Kilometerpreis oder eine pauschale Unterstützung sind uns natürlich willkommen. Das Sponsorengeld sammeln die Schülerinnen und Schüler nach dem Schullauf ein und geben es beim Klassenlehrer ab. Der finanzielle Gewinn wird auf folgende drei Bereiche verteilt: \nSchule /  Soziale Zwecke / Klassenkasse     \nDie Klassen treffen sich 15 Minuten vor der Startzeit auf dem Schulhof am Standort Niederkrüchten\,  Oberkrüchtener Weg 39\, mit ihren Klassenlehrern! \nStartzeiten: \nJahrgangsstufen 5 und 6:     von 12:30 Uhr bis 13:00 Uhr \nJahrgangsstufen 7 und 8:     von 13:30 Uhr bis 14:00 Uhr \nJahrgangsstufen 9 und 10:   von 14:30 Uhr bis 15:00 Uhr \nEnde der Laufzeit:                max. 17:00 Uhr \n  \nWir hoffen auf einen schönen geselligen Tag!
URL:https://www.janusz-korczak-realschule.de/termin/13-schullauf/
CATEGORIES:Sportfest
END:VEVENT
END:VCALENDAR