BEGIN:VCALENDAR
VERSION:2.0
PRODID:-//Janusz-Korczak-Realschule Schwalmtal - ECPv6.15.20//NONSGML v1.0//EN
CALSCALE:GREGORIAN
METHOD:PUBLISH
X-ORIGINAL-URL:https://www.janusz-korczak-realschule.de
X-WR-CALDESC:Veranstaltungen für Janusz-Korczak-Realschule Schwalmtal
REFRESH-INTERVAL;VALUE=DURATION:PT1H
X-Robots-Tag:noindex
X-PUBLISHED-TTL:PT1H
BEGIN:VTIMEZONE
TZID:Europe/Berlin
BEGIN:DAYLIGHT
TZOFFSETFROM:+0100
TZOFFSETTO:+0200
TZNAME:CEST
DTSTART:20230326T010000
END:DAYLIGHT
BEGIN:STANDARD
TZOFFSETFROM:+0200
TZOFFSETTO:+0100
TZNAME:CET
DTSTART:20231029T010000
END:STANDARD
BEGIN:DAYLIGHT
TZOFFSETFROM:+0100
TZOFFSETTO:+0200
TZNAME:CEST
DTSTART:20240331T010000
END:DAYLIGHT
BEGIN:STANDARD
TZOFFSETFROM:+0200
TZOFFSETTO:+0100
TZNAME:CET
DTSTART:20241027T010000
END:STANDARD
BEGIN:DAYLIGHT
TZOFFSETFROM:+0100
TZOFFSETTO:+0200
TZNAME:CEST
DTSTART:20250330T010000
END:DAYLIGHT
BEGIN:STANDARD
TZOFFSETFROM:+0200
TZOFFSETTO:+0100
TZNAME:CET
DTSTART:20251026T010000
END:STANDARD
END:VTIMEZONE
BEGIN:VEVENT
DTSTART;TZID=Europe/Berlin:20240924T080000
DTEND;TZID=Europe/Berlin:20240924T113000
DTSTAMP:20260425T141247
CREATED:20240814T065142Z
LAST-MODIFIED:20240814T065142Z
UID:5032-1727164800-1727177400@www.janusz-korczak-realschule.de
SUMMARY:Schnuppertag für die KGS NK am Standort NK
DESCRIPTION:Die 4. Klassen der KGS Niederkrüchten kommen zu Besuch
URL:https://www.janusz-korczak-realschule.de/termin/schnuppertag-fuer-die-kgs-nk-am-standort-nk/
END:VEVENT
BEGIN:VEVENT
DTSTART;TZID=Europe/Berlin:20240924T190000
DTEND;TZID=Europe/Berlin:20240924T200000
DTSTAMP:20260425T141247
CREATED:20240814T065033Z
LAST-MODIFIED:20240814T065033Z
UID:5030-1727204400-1727208000@www.janusz-korczak-realschule.de
SUMMARY:1. Schulkonferenz
DESCRIPTION:Mitglieder der Schulkonferenz sind die Schulleitung sowie die gewählte Vertretung der Lehrerinnen und Lehrer\, Eltern\, Schülerinnen und Schüler im Verhältnis – Lehrerinnen und Lehrer : Eltern : Schülerinnen und Schüler
URL:https://www.janusz-korczak-realschule.de/termin/1-schulkonferenz-5/
END:VEVENT
END:VCALENDAR