BEGIN:VCALENDAR
VERSION:2.0
PRODID:-//Janusz-Korczak-Realschule Schwalmtal - ECPv6.15.20//NONSGML v1.0//EN
CALSCALE:GREGORIAN
METHOD:PUBLISH
X-ORIGINAL-URL:https://www.janusz-korczak-realschule.de
X-WR-CALDESC:Veranstaltungen für Janusz-Korczak-Realschule Schwalmtal
REFRESH-INTERVAL;VALUE=DURATION:PT1H
X-Robots-Tag:noindex
X-PUBLISHED-TTL:PT1H
BEGIN:VTIMEZONE
TZID:Europe/Berlin
BEGIN:DAYLIGHT
TZOFFSETFROM:+0100
TZOFFSETTO:+0200
TZNAME:CEST
DTSTART:20230326T010000
END:DAYLIGHT
BEGIN:STANDARD
TZOFFSETFROM:+0200
TZOFFSETTO:+0100
TZNAME:CET
DTSTART:20231029T010000
END:STANDARD
BEGIN:DAYLIGHT
TZOFFSETFROM:+0100
TZOFFSETTO:+0200
TZNAME:CEST
DTSTART:20240331T010000
END:DAYLIGHT
BEGIN:STANDARD
TZOFFSETFROM:+0200
TZOFFSETTO:+0100
TZNAME:CET
DTSTART:20241027T010000
END:STANDARD
BEGIN:DAYLIGHT
TZOFFSETFROM:+0100
TZOFFSETTO:+0200
TZNAME:CEST
DTSTART:20250330T010000
END:DAYLIGHT
BEGIN:STANDARD
TZOFFSETFROM:+0200
TZOFFSETTO:+0100
TZNAME:CET
DTSTART:20251026T010000
END:STANDARD
END:VTIMEZONE
BEGIN:VEVENT
DTSTART;TZID=Europe/Berlin:20240916T080000
DTEND;TZID=Europe/Berlin:20240916T130000
DTSTAMP:20260426T014104
CREATED:20240814T064204Z
LAST-MODIFIED:20240814T064204Z
UID:5020-1726473600-1726491600@www.janusz-korczak-realschule.de
SUMMARY:Potenzialanalyse 8f
DESCRIPTION:Standardelement im Rahmen von „Kein Abschluss ohne Anschluss“ – Potenzialanalyse für die Klasse 8f\, ganztägig\, die Potenzialanalyse wird von einem externen Träger außerhalb der Schule durchgeführt.
URL:https://www.janusz-korczak-realschule.de/termin/potenzialanalyse-8f-5/
END:VEVENT
BEGIN:VEVENT
DTSTART;VALUE=DATE:20240916
DTEND;VALUE=DATE:20240922
DTSTAMP:20260426T014104
CREATED:20240430T063943Z
LAST-MODIFIED:20240430T063943Z
UID:4899-1726473600-1726905599@www.janusz-korczak-realschule.de
SUMMARY:Klassenfahrt 10a\, 10b\, 10d\, 10e\, 10f
DESCRIPTION:
URL:https://www.janusz-korczak-realschule.de/termin/klassenfahrt-10a-10b-10d-10e-10f/
END:VEVENT
END:VCALENDAR